Workbook

Sheet 제조업체별 승강기 설치추이
A1: ◈ 제조업체별 승강기 설치 추이
A3: 연도 | B3: 설치대수 | C3: A | D3: B | E3: C | F3: D | G3: E | H3: 기타
A4: 2021년 | B4: =SUM(C4:H4) -> 48905 | C4: 19185 | D4: 8718 | E4: 10932 | F4: 1301 | G4: 670 | H4: 8099
C5: 0.39229118 | D5: 0.17826398 | E5: 0.223 | F5: 0.026602597 | G5: 0.013700031 | H5: 0.16560679
A6: 2022년 | B6: =SUM(C6:H6) -> 46090 | C6: 18024 | D6: 7834 | E6: 10511 | F6: 1924 | G6: 532 | H6: 7265
C7: 0.39106097 | D7: 0.16997179 | E7: 0.22805381 | F7: 0.041744413 | G7: 0.011 | H7: 0.15762638
A8: 2023년 | B8: =SUM(C8:H8) -> 46945 | C8: 18276 | D8: 9224 | E8: 9644 | F8: 1807 | G8: 350 | H8: 7644
C9: 0.389 | D9: 0.197 | E9: 0.205 | F9: 0.039 | G9: 0.007 | H9: 0.163
A10: 2024년 | B10: =SUM(C10:H10) -> 48884 | C10: 18269 | D10: 10120 | E10: 9699 | F10: 1871 | G10: 383 | H10: 8542
C11: 0.37372146 | D11: 0.2070207 | E11: 0.19840848 | F11: 0.038274282 | G11: 0.0078348744 | H11: 0.1747402
A12: 2025년 | B12: =SUM(C12:H12) -> 36211 | C12: 11788 | D12: 6896 | E12: 7827 | F12: 1742 | G12: 193 | H12: 7765
C13: 0.32553644 | D13: 0.19043937 | E13: 0.21614979 | F13: 0.048106929 | G13: 0.0053298721 | H13: 0.2144376
A14: 2026년 6월 | B14: =SUM(C14:H14) -> 16658 | C14: 5893 | D14: 3391 | E14: 3267 | F14: 670 | G14: 62 | H14: 3375
C15: 0.35376396 | D15: 0.20356585 | E15: 0.19612198 | F15: 0.040220915 | G15: 0.0037219354 | H15: 0.20260535

Sheet 연도별 승강기 설치추이
A1: ◈ 연도별 승강기 설치 추이
A3: 연도 | B3: 당해 연도 설치그래프 계 | C3: 설치 누계그래프 계
A4: 2008년 | B4: 27500 | C4: 405752
A5: 2009년 | B5: 26415 | C5: 432167
A6: 2010년 | B6: 25323 | C6: 457490
A7: 2011년 | B7: 27489 | C7: 484979
A8: 2012년 | B8: 29479 | C8: 514458
A9: 2013년 | B9: 30037 | C9: 544495
A10: 2014년 | B10: 34423 | C10: 578918
A11: 2015년 | B11: 37472 | C11: 616390
A12: 2016년 | B12: 44068 | C12: 660458
A13: 2017년 | B13: 48504 | C13: 708962
A14: 2018년 | B14: 50025 | C14: 758987
A15: 2019년 | B15: 44594 | C15: 803581
... A20: 2024년 | B20: 48884 | C20: 1040691
A21: 2025년 | B21: 36211 | C21: =SUM(C20,B21) -> 1076902
A22: 2026년 6월 | B22: =SUM('제조업체별 승강기 설치추이'!C14:H14) -> 16658 | C22: =SUM(C21,B22) -> 1093560

Sheet 지역별 승강기 설치추이
A1: ◈ 지역별 승강기 설치 추이
A3: 연도 | B3: 서울 | C3: 부산 | D3: 대구 | E3: 인천 | F3: 광주 | G3: 대전 | H3: 울산 | I3: 세종 | J3: 경기 | K3: 강원 | L3: 충북 | M3: 충남 | N3: 전북 | O3: 전남 | P3: 경북 | Q3: 경남 | R3: 제주 | S3: 합계
A4: ='연도별 승강기 설치추이'!A4&" 이전" -> 2008년 이전 | B4: 99265 | C4: 29354 | D4: 19352 | E4: 21173 | F4: 14027 | G4: 15364 | H4: 9686 | I4: 603 | J4: 95881 | K4: 10758 | L4: 11433 | M4: 14484 | N4: 12332 | O4: 9885 | P4: 15106 | Q4: 23399 | R4: 3650 | S4: =SUM(B4:R4) -> 405752
A5: ='연도별 승강기 설치추이'!A5 -> 2009년 | B5: 5468 | C5: 1667 | D5: 913 | E5: 1442 | F5: 807 | G5: 648 | H5: 629 | I5: 36 | J5: 7638 | K5: 787 | L5: 909 | M5: 1245 | N5: 849 | O5: 623 | P5: 1164 | Q5: 1317 | R5: 273 | S5: =SUM(B5:R5) -> 26415
A6: ='연도별 승강기 설치추이'!A6 -> 2010년 | B6: 5350 | C6: 1499 | D6: 951 | E6: 1815 | F6: 835 | G6: 740 | H6: 597 | I6: 34 | J6: 6458 | K6: 615 | L6: 851 | M6: 1306 | N6: 953 | O6: 587 | P6: 1147 | Q6: 1285 | R6: 300 | S6: =SUM(B6:R6) -> 25323
A7: ='연도별 승강기 설치추이'!A7 -> 2011년 | B7: 5453 | C7: 2359 | D7: 818 | E7: 1982 | F7: 732 | G7: 1329 | H7: 527 | I7: 260 | J7: 6423 | K7: 765 | L7: 805 | M7: 1448 | N7: 899 | O7: 765 | P7: 1121 | Q7: 1326 | R7: 477 | S7: =SUM(B7:R7) -> 27489
A8: ='연도별 승강기 설치추이'!A8 -> 2012년 | B8: 5695 | C8: 2444 | D8: 912 | E8: 1826 | F8: 919 | G8: 1003 | H8: 839 | I8: 232 | J8: 7048 | K8: 732 | L8: 911 | M8: 1499 | N8: 1053 | O8: 955 | P8: 1203 | Q8: 1619 | R8: 589 | S8: =SUM(B8:R8) -> 29479
A9: ='연도별 승강기 설치추이'!A9 -> 2013년 | B9: 5152 | C9: 2504 | D9: 966 | E9: 1444 | F9: 970 | G9: 891 | H9: 964 | I9: 427 | J9: 7101 | K9: 724 | L9: 977 | M9: 1493 | N9: 1137 | O9: 1018 | P9: 1353 | Q9: 2070 | R9: 846 | S9: =SUM(B9:R9) -> 30037
A10: ='연도별 승강기 설치추이'!A10 -> 2014년 | B10: 6366 | C10: 2681 | D10: 1657 | E10: 1409 | F10: 1139 | G10: 963 | H10: 1006 | I10: 1101 | J10: 7814 | K10: 802 | L10: 1337 | M10: 1612 | N10: 1240 | O10: 1066 | P10: 1523 | Q10: 2032 | R10: 675 | S10: =SUM(B10:R10) -> 34423
A11: ='연도별 승강기 설치추이'!A11 -> 2015년 | B11: 6875 | C11: 2123 | D11: 1865 | E11: 1714 | F11: 1000 | G11: 1095 | H11: 879 | I11: 589 | J11: 9457 | K11: 928 | L11: 1197 | M11: 2061 | N11: 1150 | O11: 1062 | P11: 2006 | Q11: 2332 | R11: 1139 | S11: =SUM(B11:R11) -> 37472
A12: ='연도별 승강기 설치추이'!A12 -> 2016년 | B12: 8479 | C12: 2546 | D12: 2040 | E12: 2405 | F12: 1056 | G12: 1188 | H12: 923 | I12: 719 | J12: 11809 | K12: 1030 | L12: 1347 | M12: 2344 | N12: 1058 | O12: 1016 | P12: 1987 | Q12: 2502 | R12: 1619 | S12: =SUM(B12:R12) -> 44068
A13: ='연도별 승강기 설치추이'!A13 -> 2017년 | B13: 8062 | C13: 2813 | D13: 1514 | E13: 2654 | F13: 1003 | G13: 1475 | H13: 1014 | I13: 803 | J13: 14480 | K13: 1537 | L13: 1692 | M13: 2577 | N13: 1353 | O13: 1106 | P13: 1927 | Q13: 2660 | R13: 1834 | S13: =SUM(B13:R13) -> 48504
A14: ='연도별 승강기 설치추이'!A14 -> 2018년 | B14: 8648 | C14: 2617 | D14: 1562 | E14: 2373 | F14: 1373 | G14: 1523 | H14: 1051 | I14: 724 | J14: 16092 | K14: 1541 | L14: 1742 | M14: 2085 | N14: 1680 | O14: 1023 | P14: 1797 | Q14: 2880 | R14: 1314 | S14: =SUM(B14:R14) -> 50025
A15: ='연도별 승강기 설치추이'!A15 -> 2019년 | B15: 8105 | C15: 2868 | D15: 1422 | E15: 1958 | F15: 1443 | G15: 1579 | H15: 616 | I15: 480 | J15: 13980 | K15: 1592 | L15: 1434 | M15: 1464 | N15: 1545 | O15: 1519 | P15: 1517 | Q15: 1939 | R15: 1133 | S15: =SUM(B15:R15) -> 44594
A16: ='연도별 승강기 설치추이'!A16 -> 2020년 | B16: 8933 | C16: 2708 | D16: 1775 | E16: 2483 | F16: 1685 | G16: 1452 | H16: 893 | I16: 536 | J16: 13442 | K16: 1542 | L16: 1688 | M16: 1666 | N16: 1372 | O16: 1520 | P16: 1578 | Q16: 2180 | R16: 833 | S16: =SUM(B16:R16) -> 46286
... A22: ='연도별 승강기 설치추이'!A22 -> 2026년 6월 | B22: 3200 | C22: 1236 | D22: 452 | E22: 897 | F22: 480 | G22: 459 | H22: 351 | I22: 98 | J22: 4886 | K22: 631 | L22: 587 | M22: 594 | N22: 606 | O22: 437 | P22: 601 | Q22: 922 | R22: 221 | S22: =SUM(B22:R22) -> 16658
A23: 합계 | B23: =SUM(B4:B22) -> 225504 | C23: =SUM(C4:C22) -> 71751 | D23: =SUM(D4:D22) -> 47044 | E23: =SUM(E4:E22) -> 59973 | F23: =SUM(F4:F22) -> 34106 | G23: =SUM(G4:G22) -> 36634 | H23: =SUM(H4:H22) -> 23722 | I23: =SUM(I4:I22) -> 8127 | ... S23: =SUM(S4:S22) -> 1093560

Sheet 건물용도별 승강기 설치추이
A1: ◈ 건물용도별 승강기 설치 추이
A3: 연도 | B3: 공동주택 | C3: 근린생활 | D3: 판매영업 | E3: 운수시설 | F3: 업무시설 | G3: 숙박시설 | H3: 교육복지 | I3: 문화집회 | J3: 의료시설 | K3: 공장 | L3: 기타 | M3: 합계
A4: ='연도별 승강기 설치추이'!A4&" 이전" -> 2008년 이전 | B4: 210612 | C4: 67703 | D4: 23489 | E4: 4511 | F4: 25617 | G4: 14644 | H4: 19062 | I4: 6085 | J4: 8795 | K4: 17295 | L4: 7939 | M4: =SUM(B4:L4) -> 405752
A5: ='연도별 승강기 설치추이'!A5 -> 2009년 | B5: 12844 | C5: 3061 | D5: 1283 | E5: 1414 | F5: 1229 | G5: 382 | H5: 3319 | I5: 360 | J5: 519 | K5: 939 | L5: 1065 | M5: =SUM(B5:L5) -> 26415
A6: ='연도별 승강기 설치추이'!A6 -> 2010년 | B6: 11393 | C6: 3870 | D6: 1050 | E6: 1011 | F6: 1307 | G6: 465 | H6: 2635 | I6: 379 | J6: 569 | K6: 1482 | L6: 1162 | M6: =SUM(B6:L6) -> 25323
A7: ='연도별 승강기 설치추이'!A7 -> 2011년 | B7: 12410 | C7: 4435 | D7: 1139 | E7: 1021 | F7: 1499 | G7: 537 | H7: 2454 | I7: 532 | J7: 490 | K7: 1722 | L7: 1250 | M7: =SUM(B7:L7) -> 27489
A8: ='연도별 승강기 설치추이'!A8 -> 2012년 | B8: 14296 | C8: 4619 | D8: 1075 | E8: 932 | F8: 1590 | G8: 591 | H8: 2400 | I8: 490 | J8: 541 | K8: 1630 | L8: 1315 | M8: =SUM(B8:L8) -> 29479
A9: ='연도별 승강기 설치추이'!A9 -> 2013년 | B9: 16398 | C9: 3873 | D9: 871 | E9: 370 | F9: 1603 | G9: 679 | H9: 2137 | I9: 439 | J9: 549 | K9: 1792 | L9: 1326 | M9: =SUM(B9:L9) -> 30037
A10: ='연도별 승강기 설치추이'!A10 -> 2014년 | B10: 20049 | C10: 4245 | D10: 1232 | E10: 667 | F10: 1868 | G10: 772 | H10: 2019 | I10: 428 | J10: 489 | K10: 1384 | L10: 1270 | M10: =SUM(B10:L10) -> 34423
A11: ='연도별 승강기 설치추이'!A11 -> 2015년 | B11: 23313 | C11: 4916 | D11: 752 | E11: 645 | F11: 1753 | G11: 837 | H11: 1817 | I11: 308 | J11: 505 | K11: 1330 | L11: 1296 | M11: =SUM(B11:L11) -> 37472
A12: ='연도별 승강기 설치추이'!A12 -> 2016년 | B12: 27150 | C12: 5896 | D12: 1061 | E12: 1318 | F12: 2171 | G12: 1102 | H12: 1773 | I12: 378 | J12: 477 | K12: 1475 | L12: 1267 | M12: =SUM(B12:L12) -> 44068
A13: ='연도별 승강기 설치추이'!A13 -> 2017년 | B13: 30012 | C13: 6315 | D13: 1002 | E13: 965 | F13: 2849 | G13: 1338 | H13: 2055 | I13: 414 | J13: 451 | K13: 1756 | L13: 1347 | M13: =SUM(B13:L13) -> 48504
A14: ='연도별 승강기 설치추이'!A14 -> 2018년 | B14: 31174 | C14: 6672 | D14: 745 | E14: 871 | F14: 3181 | G14: 936 | H14: 2100 | I14: 408 | J14: 621 | K14: 1776 | L14: 1541 | M14: =SUM(B14:L14) -> 50025
A15: ='연도별 승강기 설치추이'!A15 -> 2019년 | B15: 25230 | C15: 6589 | D15: 832 | E15: 370 | F15: 3671 | G15: 897 | H15: 2428 | I15: 432 | J15: 611 | K15: 1976 | L15: 1558 | M15: =SUM(B15:L15) -> 44594
A16: ='연도별 승강기 설치추이'!A16 -> 2020년 | B16: 24534 | C16: 7281 | D16: 976 | E16: 547 | F16: 3984 | G16: 1242 | H16: 2771 | I16: 444 | J16: 709 | K16: 2128 | L16: 1670 | M16: =SUM(B16:L16) -> 46286
... A22: ='연도별 승강기 설치추이'!A22 -> 2026년 6월 | B22: 9725 | C22: 2042 | D22: 207 | E22: 90 | F22: 923 | G22: 340 | H22: 1349 | I22: 229 | J22: 178 | K22: 794 | L22: 781 | M22: =SUM(B22:L22) -> 16658
A23: 합계 | B23: =SUM(B4:B22) -> 600504 | C23: =SUM(C4:C22) -> 162608 | D23: =SUM(D4:D22) -> 38521 | E23: =SUM(E4:E22) -> 17725 | F23: =SUM(F4:F22) -> 68410 | G23: =SUM(G4:G22) -> 29280 | H23: =SUM(H4:H22) -> 62191 | I23: =SUM(I4:I22) -> 13858 | ... M23: =SUM(M4:M22) -> 1093560

Sheet 종류별 승강기 설치추이
A1: ◈ 승강기 종류별 설치 추이
A3: 연도 | B3: 승객용 | C3: 병원용 | D3: 승객화물용 | E3: 소방구조용 | F3: 피난용 | G3: 장애인용 | H3: 전망용 | I3: 주택용 | J3: 화물용 | K3: 소형화물용 | L3: 자동차용 | M3: 에스컬레이터 | N3: 무빙워크 | O3: 경사형휠체어리프트 | P3: 수직형휠체어리프트 | Q3: 합계
A4: ='연도별 승강기 설치추이'!A4&" 이전" -> 2008년 이전 | B4: 166711 | C4: 5038 | D4: 10659 | E4: 73559 | F4: 0 | G4: 80970 | H4: 5215 | I4: 42 | J4: 16429 | K4: 12918 | L4: 10315 | M4: 16858 | N4: 4012 | O4: 2648 | P4: 378 | Q4: =SUM(B4:P4) -> 405752
A5: ='연도별 승강기 설치추이'!A5 -> 2009년 | B5: 6361 | C5: 204 | D5: 202 | E5: 5095 | F5: 0 | G5: 10326 | H5: 227 | I5: 14 | J5: 710 | K5: 713 | L5: 203 | M5: 1746 | N5: 233 | O5: 276 | P5: 105 | Q5: =SUM(B5:P5) -> 26415
A6: ='연도별 승강기 설치추이'!A6 -> 2010년 | B6: 8521 | C6: 266 | D6: 269 | E6: 4512 | F6: 0 | G6: 7601 | H6: 249 | I6: 77 | J6: 1020 | K6: 663 | L6: 189 | M6: 1466 | N6: 301 | O6: 94 | P6: 95 | Q6: =SUM(B6:P6) -> 25323
A7: ='연도별 승강기 설치추이'!A7 -> 2011년 | B7: 10912 | C7: 235 | D7: 343 | E7: 4511 | F7: 0 | G7: 7017 | H7: 240 | I7: 24 | J7: 1130 | K7: 882 | L7: 204 | M7: 1488 | N7: 284 | O7: 109 | P7: 110 | Q7: =SUM(B7:P7) -> 27489
A8: ='연도별 승강기 설치추이'!A8 -> 2012년 | B8: 16604 | C8: 261 | D8: 305 | E8: 1373 | F8: 0 | G8: 6681 | H8: 227 | I8: 32 | J8: 1172 | K8: 666 | L8: 268 | M8: 1383 | N8: 275 | O8: 89 | P8: 143 | Q8: =SUM(B8:P8) -> 29479
A9: ='연도별 승강기 설치추이'!A9 -> 2013년 | B9: 18500 | C9: 228 | D9: 670 | E9: 589 | F9: 0 | G9: 6282 | H9: 193 | I9: 19 | J9: 1238 | K9: 562 | L9: 289 | M9: 1007 | N9: 243 | O9: 76 | P9: 141 | Q9: =SUM(B9:P9) -> 30037
A10: ='연도별 승강기 설치추이'!A10 -> 2014년 | B10: 22534 | C10: 229 | D10: 695 | E10: 643 | F10: 0 | G10: 6910 | H10: 194 | I10: 20 | J10: 873 | K10: 254 | L10: 228 | M10: 1394 | N10: 213 | O10: 99 | P10: 137 | Q10: =SUM(B10:P10) -> 34423
A11: ='연도별 승강기 설치추이'!A11 -> 2015년 | B11: 25295 | C11: 268 | D11: 1071 | E11: 803 | F11: 0 | G11: 7204 | H11: 178 | I11: 19 | J11: 693 | K11: 119 | L11: 271 | M11: 1136 | N11: 166 | O11: 84 | P11: 165 | Q11: =SUM(B11:P11) -> 37472
A12: ='연도별 승강기 설치추이'!A12 -> 2016년 | B12: 29434 | C12: 281 | D12: 738 | E12: 918 | F12: 0 | G12: 9024 | H12: 182 | I12: 28 | J12: 817 | K12: 90 | L12: 331 | M12: 1848 | N12: 123 | O12: 56 | P12: 198 | Q12: =SUM(B12:P12) -> 44068
A13: ='연도별 승강기 설치추이'!A13 -> 2017년 | B13: 30470 | C13: 229 | D13: 680 | E13: 1489 | F13: 1 | G13: 11711 | H13: 229 | I13: 31 | J13: 954 | K13: 94 | L13: 366 | M13: 1698 | N13: 230 | O13: 68 | P13: 254 | Q13: =SUM(B13:P13) -> 48504
A14: ='연도별 승강기 설치추이'!A14 -> 2018년 | B14: 29839 | C14: 224 | D14: 904 | E14: 2172 | F14: 3 | G14: 13171 | H14: 193 | I14: 36 | J14: 921 | K14: 81 | L14: 339 | M14: 1694 | N14: 82 | O14: 93 | P14: 273 | Q14: =SUM(B14:P14) -> 50025
A15: ='연도별 승강기 설치추이'!A15 -> 2019년 | B15: 16794 | C15: 210 | D15: 952 | E15: 8168 | F15: 62 | G15: 14701 | H15: 190 | I15: 32 | J15: 919 | K15: 57 | L15: 345 | M15: 1510 | N15: 106 | O15: 56 | P15: 492 | Q15: =SUM(B15:P15) -> 44594
A16: ='연도별 승강기 설치추이'!A16 -> 2020년 | B16: 17934 | C16: 244 | D16: 749 | E16: 8660 | F16: 96 | G16: 14658 | H16: 270 | I16: 107 | J16: 885 | K16: 31 | L16: 293 | M16: 1785 | N16: 92 | O16: 17 | P16: 465 | Q16: =SUM(B16:P16) -> 46286
... A22: ='연도별 승강기 설치추이'!A22 -> 2026년 6월 | B22: 5813 | C22: 72 | D22: 401 | E22: 2807 | F22: 62 | G22: 6518 | H22: 97 | I22: 71 | J22: 337 | K22: 29 | L22: 77 | M22: 273 | N22: 10 | O22: 0 | P22: 91 | Q22: =SUM(B22:P22) -> 16658
A23: 합계 | B23: =SUM(B4:B22) -> 478104 | C23: =SUM(C4:C22) -> 8809 | D23: =SUM(D4:D22) -> 23818 | E23: =SUM(E4:E22) -> 169427 | F23: =SUM(F4:F22) -> 1471 | G23: =SUM(G4:G22) -> 279985 | H23: =SUM(H4:H22) -> 8830 | I23: =SUM(I4:I22) -> 1140 | ... Q23: =SUM(Q4:Q22) -> 1093560

Sheet 운행층수별 승강기 설치추이
A1: ◈ 운행층수별 승강기 설치 추이 (승객용 엘리베이터)
A3: 연도 | B3: 5층 이하 | C3: 6~10층 | D3: 11~15층 | E3: 16~25층 | F3: 26~30층 | G3: 30층 초과 | H3: 합계
A4: ='연도별 승강기 설치추이'!A4&" 이전" -> 2008년 이전 | B4: 63494 | C4: 81418 | D4: 102175 | E4: 85981 | F4: 6158 | G4: 2968 | H4: =SUM(B4:G4) -> 342194
A5: ='연도별 승강기 설치추이'!A5 -> 2009년 | B5: 7144 | C5: 3402 | D5: 5158 | E5: 5365 | F5: 739 | G5: 621 | H5: =SUM(B5:G5) -> 22429
A6: ='연도별 승강기 설치추이'!A6 -> 2010년 | B6: 7992 | C6: 3740 | D6: 4468 | E6: 3962 | F6: 712 | G6: 621 | H6: =SUM(B6:G6) -> 21495
A7: ='연도별 승강기 설치추이'!A7 -> 2011년 | B7: 9582 | C7: 4624 | D7: 3924 | E7: 3811 | F7: 666 | G7: 675 | H7: =SUM(B7:G7) -> 23282
A8: ='연도별 승강기 설치추이'!A8 -> 2012년 | B8: 11719 | C8: 5350 | D8: 3594 | E8: 3638 | F8: 543 | G8: 639 | H8: =SUM(B8:G8) -> 25483
A9: ='연도별 승강기 설치추이'!A9 -> 2013년 | B9: 11511 | C9: 5215 | D9: 3748 | E9: 4701 | F9: 802 | G9: 504 | H9: =SUM(B9:G9) -> 26481
A10: ='연도별 승강기 설치추이'!A10 -> 2014년 | B10: 13527 | C10: 5840 | D10: 3820 | E10: 5806 | F10: 1493 | G10: 739 | H10: =SUM(B10:G10) -> 31225
A11: ='연도별 승강기 설치추이'!A11 -> 2015년 | B11: 16156 | C11: 7063 | D11: 3761 | E11: 5723 | F11: 1206 | G11: 929 | H11: =SUM(B11:G11) -> 34838
A12: ='연도별 승강기 설치추이'!A12 -> 2016년 | B12: 19735 | C12: 8598 | D12: 3819 | E12: 6058 | F12: 1637 | G12: 758 | H12: =SUM(B12:G12) -> 40605
A13: ='연도별 승강기 설치추이'!A13 -> 2017년 | B13: 20749 | C13: 8101 | D13: 3996 | E13: 7877 | F13: 2583 | G13: 1534 | H13: =SUM(B13:G13) -> 44840
A14: ='연도별 승강기 설치추이'!A14 -> 2018년 | B14: 19706 | C14: 7495 | D14: 4687 | E14: 8922 | F14: 3099 | G14: 2633 | H14: =SUM(B14:G14) -> 46542
A15: ='연도별 승강기 설치추이'!A15 -> 2019년 | B15: 17411 | C15: 6638 | D15: 4909 | E15: 7467 | F15: 2513 | G15: 2171 | H15: =SUM(B15:G15) -> 41109
A16: ='연도별 승강기 설치추이'!A16 -> 2020년 | B16: 16921 | C16: 7763 | D16: 6324 | E16: 7820 | F16: 1936 | G16: 1953 | H16: =SUM(B16:G16) -> 42717
... A22: ='연도별 승강기 설치추이'!A22 -> 2026년 6월 | B22: 5035 | C22: 2320 | D22: 2654 | E22: 3795 | F22: 918 | G22: 1119 | H22: =SUM(B22:G22) -> 15841
A23: 합계 | B23: =SUM(B4:B22) -> 315625 | C23: =SUM(C4:C22) -> 190297 | D23: =SUM(D4:D22) -> 190432 | E23: =SUM(E4:E22) -> 207982 | F23: =SUM(F4:F22) -> 36767 | G23: =SUM(G4:G22) -> 30481 | H23: =SUM(H4:H22) -> 971584
